BEGIN:VCALENDAR
VERSION:2.0
PRODID:-//STADTKULTUR HAMBURG//kultur-hamburg.de///DE
CALSCALE:GREGORIAN
BEGIN:VEVENT
X-WR-TIMEZONE:Europe/Berlin
DTSTART:20260508T193000
DTEND:20260508T210000
LOCATION:Mut! Theater \, Amandastraße 58 \, 20357 Hamburg
DTSTAMP:20260420T010850
SUMMARY: KADERİMİN OYUNU MU BU/in Türkisch
URL;VALUE=URI:https://www.kultur-hamburg.de/veranstaltungen/kadermn-oyunu-mu-buin-tuerkisch-809733
DESCRIPTION:“Aşkı buldum “ derken, aşkın eşiğinden geçememiş insanların hallerini anlatan absürd bir komedi seyirciye göz kırpıyor.
UID:42ee1cfc07625d3a3d3f03003d465ffc@kulturhamburg
END:VEVENT
END:VCALENDAR