BEGIN:VCALENDAR
VERSION:2.0
PRODID:-//STADTKULTUR HAMBURG//kultur-hamburg.de///DE
CALSCALE:GREGORIAN
BEGIN:VEVENT
X-WR-TIMEZONE:Europe/Berlin
DTSTART:20260509T110000
DTEND:20260509T160000
LOCATION:Goldbekhaus \, Moorfuhrtweg 9 \, 22301 Hamburg
DTSTAMP:20260420T025219
SUMMARY:Flohmarkt auf dem Hof
URL;VALUE=URI:https://www.kultur-hamburg.de/veranstaltungen/flohmarkt-auf-dem-hof-809921
DESCRIPTION:
UID:e49abb4b0882c8fb9b285861968ced5d@kulturhamburg
END:VEVENT
END:VCALENDAR