BEGIN:VCALENDAR
VERSION:2.0
PRODID:-//STADTKULTUR HAMBURG//kultur-hamburg.de///DE
CALSCALE:GREGORIAN
BEGIN:VEVENT
X-WR-TIMEZONE:Europe/Berlin
DTSTART:20260509T203000
DTEND:20260509T223000
LOCATION:Goldbekhaus \, Moorfuhrtweg 9 \, 22301 Hamburg
DTSTAMP:20260420T025611
SUMMARY:Soul Shaker
URL;VALUE=URI:https://www.kultur-hamburg.de/veranstaltungen/soul-shaker-809922
DESCRIPTION:
UID:46e2583b4f33ee77cc4d9b807f50f8bd@kulturhamburg
END:VEVENT
END:VCALENDAR