BEGIN:VCALENDAR
VERSION:2.0
PRODID:-//STADTKULTUR HAMBURG//kultur-hamburg.de///DE
CALSCALE:GREGORIAN
BEGIN:VEVENT
X-WR-TIMEZONE:Europe/Berlin
DTSTART:20260510T160000
DTEND:20260510T203000
LOCATION:Goldbekhaus \, Moorfuhrtweg 9 \, 22301 Hamburg
DTSTAMP:20260420T044046
SUMMARY:Sunday Hop im Goldbekhaus
URL;VALUE=URI:https://www.kultur-hamburg.de/veranstaltungen/sunday-hop-im-goldbekhaus-809926
DESCRIPTION:
UID:67ce2aa337358c8b2a80d248d5472369@kulturhamburg
END:VEVENT
END:VCALENDAR