BEGIN:VCALENDAR
VERSION:2.0
PRODID:-//STADTKULTUR HAMBURG//kultur-hamburg.de///DE
CALSCALE:GREGORIAN
BEGIN:VEVENT
X-WR-TIMEZONE:Europe/Berlin
DTSTART:20260515T200000
DTEND:20260515T220000
LOCATION:Goldbekhaus \, Moorfuhrtweg 9 \, 22301 Hamburg
DTSTAMP:20260422T141444
SUMMARY:The Hook: How Did We Get Here? – Ein physikalisch improvisierter Theaterabend über die Kunst des Zusammenseins (Veranstaltung)
URL;VALUE=URI:https://www.kultur-hamburg.de/veranstaltungen/the-hook-how-did-we-get-here--ein-physikalisch-improvisierter-theaterabend-ueber-die-kunst-des-zusammenseins-veranstaltung-810095
DESCRIPTION:
UID:57e7e9fbde2b08467cf631c4fda945cd@kulturhamburg
END:VEVENT
END:VCALENDAR