BEGIN:VCALENDAR
VERSION:2.0
PRODID:-//STADTKULTUR HAMBURG//kultur-hamburg.de///DE
CALSCALE:GREGORIAN
BEGIN:VEVENT
X-WR-TIMEZONE:Europe/Berlin
DTSTART:20260516T200000
DTEND:20260516T220000
LOCATION:Goldbekhaus \, Moorfuhrtweg 9 \, 22301 Hamburg
DTSTAMP:20260422T154710
SUMMARY:BeaTogether – Masterclass on stage: Collage (Veranstaltung)
URL;VALUE=URI:https://www.kultur-hamburg.de/veranstaltungen/beatogether--masterclass-on-stage-collage-veranstaltung-810096
DESCRIPTION:
UID:37208bd432e11b1f2a7d8cf366a83693@kulturhamburg
END:VEVENT
END:VCALENDAR