BEGIN:VCALENDAR
VERSION:2.0
PRODID:-//STADTKULTUR HAMBURG//kultur-hamburg.de///DE
CALSCALE:GREGORIAN
BEGIN:VEVENT
X-WR-TIMEZONE:Europe/Berlin
DTSTART:20260516T200000
DTEND:20260516T220000
LOCATION:Goldbekhaus \, Moorfuhrtweg 9 \, 22301 Hamburg
DTSTAMP:20260422T160344
SUMMARY:Winterhuder Tanznacht – Die Kultparty
URL;VALUE=URI:https://www.kultur-hamburg.de/veranstaltungen/winterhuder-tanznacht--die-kultparty-810097
DESCRIPTION:
UID:910a3ed4b0ebd3d2e45271f01aa2ca62@kulturhamburg
END:VEVENT
END:VCALENDAR