BEGIN:VCALENDAR
VERSION:2.0
PRODID:-//STADTKULTUR HAMBURG//kultur-hamburg.de///DE
CALSCALE:GREGORIAN
BEGIN:VEVENT
X-WR-TIMEZONE:Europe/Berlin
DTSTART:20260517T180000
DTEND:20260517T200000
LOCATION:Goldbekhaus \, Moorfuhrtweg 9 \, 22301 Hamburg
DTSTAMP:20260422T175359
SUMMARY:VIERTEL VOR FAME / ImproMusikComedy mit Kießling&Kaffka (Veranstaltung)
URL;VALUE=URI:https://www.kultur-hamburg.de/veranstaltungen/viertel-vor-fame--impromusikcomedy-mit-kiessling&kaffka-veranstaltung-810098
DESCRIPTION:
UID:92f421938e933ca29a1b51c4f5f5d56d@kulturhamburg
END:VEVENT
END:VCALENDAR