BEGIN:VCALENDAR
VERSION:2.0
PRODID:-//STADTKULTUR HAMBURG//kultur-hamburg.de///DE
CALSCALE:GREGORIAN
BEGIN:VEVENT
X-WR-TIMEZONE:Europe/Berlin
DTSTART:20260521T190000
DTEND:20260521T210000
LOCATION:Goldbekhaus \, Moorfuhrtweg 9 \, 22301 Hamburg
DTSTAMP:20260423T004803
SUMMARY:Hamburg Night of Speakin
URL;VALUE=URI:https://www.kultur-hamburg.de/veranstaltungen/hamburg-night-of-speakin-810099
DESCRIPTION:
UID:40bd1d7668b76664f3f648a681daf091@kulturhamburg
END:VEVENT
END:VCALENDAR