BEGIN:VCALENDAR
VERSION:2.0
PRODID:-//STADTKULTUR HAMBURG//kultur-hamburg.de///DE
CALSCALE:GREGORIAN
BEGIN:VEVENT
X-WR-TIMEZONE:Europe/Berlin
DTSTART:20260524T110000
DTEND:20260524T160000
LOCATION:Goldbekhaus \, Moorfuhrtweg 9 \, 22301 Hamburg
DTSTAMP:20260423T060618
SUMMARY:Flohmarkt auf dem Hof
URL;VALUE=URI:https://www.kultur-hamburg.de/veranstaltungen/flohmarkt-auf-dem-hof-810100
DESCRIPTION:
UID:96a1fc3c044b60b7bc1eda564cb08228@kulturhamburg
END:VEVENT
END:VCALENDAR