BEGIN:VCALENDAR
VERSION:2.0
PRODID:-//STADTKULTUR HAMBURG//kultur-hamburg.de///DE
CALSCALE:GREGORIAN
BEGIN:VEVENT
X-WR-TIMEZONE:Europe/Berlin
DTSTART:20260530T200000
DTEND:20260530T220000
LOCATION:Goldbekhaus \, Moorfuhrtweg 9 \, 22301 Hamburg
DTSTAMP:20260423T155330
SUMMARY:The Far Side – Konzert
URL;VALUE=URI:https://www.kultur-hamburg.de/veranstaltungen/the-far-side--konzert-810108
DESCRIPTION:
UID:d166d284191bc61427f5706896ec8a28@kulturhamburg
END:VEVENT
END:VCALENDAR