BEGIN:VCALENDAR
VERSION:2.0
PRODID:-//STADTKULTUR HAMBURG//kultur-hamburg.de///DE
CALSCALE:GREGORIAN
BEGIN:VEVENT
X-WR-TIMEZONE:Europe/Berlin
DTSTART:20260519T190000
DTEND:20260519T210000
LOCATION:Instituto Cervantes Hamburg \, Chilehaus\, Eingang B\, 1. Etage\, Fischertwiete 1 \, 20095 Hamburg
DTSTAMP:20260422T124414
SUMMARY:Und was liest du?
URL;VALUE=URI:https://www.kultur-hamburg.de/veranstaltungen/und-was-liest-du-810140
DESCRIPTION:
UID:fc8b5a230d8922ce3fb352e569af48f6@kulturhamburg
END:VEVENT
END:VCALENDAR