BEGIN:VCALENDAR
VERSION:2.0
PRODID:-//STADTKULTUR HAMBURG//kultur-hamburg.de///DE
CALSCALE:GREGORIAN
BEGIN:VEVENT
X-WR-TIMEZONE:Europe/Berlin
DTSTART:20260623T190000
DTEND:20260623T210000
LOCATION:Instituto Cervantes Hamburg \, Chilehaus\, Eingang B\, 1. Etage\, Fischertwiete 1 \, 20095 Hamburg
DTSTAMP:20260422T141328
SUMMARY:Und was liest du?
URL;VALUE=URI:https://www.kultur-hamburg.de/veranstaltungen/und-was-liest-du-810141
DESCRIPTION:
UID:4f2a67a207c0a10175013a2f5f963cb1@kulturhamburg
END:VEVENT
END:VCALENDAR