BEGIN:VCALENDAR
VERSION:2.0
PRODID:-//STADTKULTUR HAMBURG//kultur-hamburg.de///DE
CALSCALE:GREGORIAN
BEGIN:VEVENT
X-WR-TIMEZONE:Europe/Berlin
DTSTART:20260507T183000
DTEND:20260507T210000
LOCATION:Zinnschmelze \, Maurienstraße 19 \, 22305 Hamburg
DTSTAMP:20260420T201652
SUMMARY:kohero Salon mit Tessniem Kadiri aus ,,Baba Issues“
URL;VALUE=URI:https://www.kultur-hamburg.de/veranstaltungen/kohero-salon-mit-tessniem-kadiri-aus-baba-issues-810150
DESCRIPTION:Im kohero Salon lesen migrantische Autor*innen aus ihren Büchern. Danach habt ihr die Möglichkeit, euch mit den Autor*innen auszutauschen und zu diskutieren. 
UID:1f98824469b2aa655b36247b0b4813da@kulturhamburg
END:VEVENT
END:VCALENDAR