BEGIN:VCALENDAR
VERSION:2.0
PRODID:-//STADTKULTUR HAMBURG//kultur-hamburg.de///DE
CALSCALE:GREGORIAN
BEGIN:VEVENT
X-WR-TIMEZONE:Europe/Berlin
DTSTART:20260503T110000
DTEND:20260503T130000
LOCATION:Bürgerhaus Wilhelmsburg \, Mengestraße 20 \, 21107 Hamburg
DTSTAMP:20260419T170216
SUMMARY:SonntagsPlatz - ZORA ZAMPANOS ZIRKUSSHOW
URL;VALUE=URI:https://www.kultur-hamburg.de/veranstaltungen/sonntagsplatz-zora-zampanos-zirkusshow-810235
DESCRIPTION:Kindertheater ab 4 Jahren mit anschließendem Mittagstisch und kreativem Mitmachangebot
UID:063849ab9c238e82d941eea520fbc415@kulturhamburg
END:VEVENT
END:VCALENDAR