BEGIN:VCALENDAR
VERSION:2.0
PRODID:-//STADTKULTUR HAMBURG//kultur-hamburg.de///DE
CALSCALE:GREGORIAN
BEGIN:VEVENT
X-WR-TIMEZONE:Europe/Berlin
DTSTART:20260503T124500
DTEND:20260503T144500
LOCATION:Bürgerhaus Wilhelmsburg \, Mengestraße 20 \, 21107 Hamburg
DTSTAMP:20260419T170216
SUMMARY:SonntagsPlatz - ZORA ZAMPANOS ZIRKUSSHOW
URL;VALUE=URI:https://www.kultur-hamburg.de/veranstaltungen/sonntagsplatz-zora-zampanos-zirkusshow-810236
DESCRIPTION:Kindertheater ab 4 Jahren mit anschließendem Mittagstisch und kreativem Mitmachangebot
UID:7e046edfb67eb828912d360fa3e3b029@kulturhamburg
END:VEVENT
END:VCALENDAR