BEGIN:VCALENDAR
VERSION:2.0
PRODID:-//STADTKULTUR HAMBURG//kultur-hamburg.de///DE
CALSCALE:GREGORIAN
BEGIN:VEVENT
X-WR-TIMEZONE:Europe/Berlin
DTSTART:20120703T110000
DTEND:20120728T150000
LOCATION:TASK Schauspielschule für Kinder und Jugendliche \, Stresemannstraße 163 (Neue Flora) \, 22769 Hamburg
DTSTAMP:20260424T061123
SUMMARY:Bühne frei! Theater-Ferienworkshops ab 6 J. - TASK Schauspielschule
URL;VALUE=URI:https://www.kultur-hamburg.de/kurse_workshops/buehne-frei!-theater-ferienworkshops-ab-6-j.-task-schauspielschule-81030
DESCRIPTION:Diese Kurse führen  in die Grundlagen des Theaterspiels ein.
UID:31105d30f6b35d570d04d9381108b515@kulturhamburg
END:VEVENT
END:VCALENDAR