BEGIN:VCALENDAR
VERSION:2.0
PRODID:-//STADTKULTUR HAMBURG//kultur-hamburg.de///DE
CALSCALE:GREGORIAN
BEGIN:VEVENT
X-WR-TIMEZONE:Europe/Berlin
DTSTART:20260524T100000
DTEND:20260524T140000
LOCATION:Marktplatz Eidelstedt \, Alte Elbgaustraße \, 22523 Hamburg
DTSTAMP:20260423T060618
SUMMARY:Flohmarkt
URL;VALUE=URI:https://www.kultur-hamburg.de/veranstaltungen/flohmarkt-810340
DESCRIPTION:Von Nachbar*innen für Nachbar*innen
UID:a6a6a52276639e89e14563a8c74471a0@kulturhamburg
END:VEVENT
END:VCALENDAR