BEGIN:VCALENDAR
VERSION:2.0
PRODID:-//STADTKULTUR HAMBURG//kultur-hamburg.de///DE
CALSCALE:GREGORIAN
BEGIN:VEVENT
X-WR-TIMEZONE:Europe/Berlin
DTSTART:20260726T100000
DTEND:20260726T140000
LOCATION:Marktplatz Eidelstedt \, Alte Elbgaustraße \, 22523 Hamburg
DTSTAMP:20260423T075228
SUMMARY:Flohmarkt
URL;VALUE=URI:https://www.kultur-hamburg.de/veranstaltungen/flohmarkt-810341
DESCRIPTION:Von Nachbar*innen für Nachbar*innen
UID:fc3cceb8cfbda3e20e3ce5e32a6913e7@kulturhamburg
END:VEVENT
END:VCALENDAR