BEGIN:VCALENDAR
VERSION:2.0
PRODID:-//STADTKULTUR HAMBURG//kultur-hamburg.de///DE
CALSCALE:GREGORIAN
BEGIN:VEVENT
X-WR-TIMEZONE:Europe/Berlin
DTSTART:20260920T100000
DTEND:20260920T140000
LOCATION:Marktplatz Eidelstedt \, Alte Elbgaustraße \, 22523 Hamburg
DTSTAMP:20260423T075228
SUMMARY:Flohmarkt
URL;VALUE=URI:https://www.kultur-hamburg.de/veranstaltungen/flohmarkt-810342
DESCRIPTION:Von Nachbar*innen für Nachbar*innen
UID:6232e48fead64f944923ca722e61c052@kulturhamburg
END:VEVENT
END:VCALENDAR