BEGIN:VCALENDAR
VERSION:2.0
PRODID:-//STADTKULTUR HAMBURG//kultur-hamburg.de///DE
CALSCALE:GREGORIAN
BEGIN:VEVENT
X-WR-TIMEZONE:Europe/Berlin
DTSTART:20120713T110000
DTEND:20120807T150000
LOCATION:TASK Schauspielschule für Kinder und Jugendliche \, Stresemannstraße 163 (Neue Flora) \, 22769 Hamburg
DTSTAMP:20260424T043403
SUMMARY:Bühne frei! Theater-Ferienworkshops ab 6 J. - TASK Schauspielschule
URL;VALUE=URI:https://www.kultur-hamburg.de/kurse_workshops/buehne-frei!-theater-ferienworkshops-ab-6-j.-task-schauspielschule-81038
DESCRIPTION:Diese Kurse führen  in die Grundlagen des Theaterspiels ein.
UID:389257d67e359071d6c4b2f9b05ba90a@kulturhamburg
END:VEVENT
END:VCALENDAR