BEGIN:VCALENDAR
VERSION:2.0
PRODID:-//STADTKULTUR HAMBURG//kultur-hamburg.de///DE
CALSCALE:GREGORIAN
BEGIN:VEVENT
X-WR-TIMEZONE:Europe/Berlin
DTSTART:20260424T193000
DTEND:20260424T220000
LOCATION:Friseur Frau Schmidt \, Washingtonallee 20 \, 22111 Hamburg
DTSTAMP:20260420T042721
SUMMARY:Kultur im Salon
URL;VALUE=URI:https://www.kultur-hamburg.de/veranstaltungen/kultur-im-salon-810416
DESCRIPTION:
UID:147cd3bf32951ad355b00509e9d78690@kulturhamburg
END:VEVENT
END:VCALENDAR