BEGIN:VCALENDAR
VERSION:2.0
PRODID:-//STADTKULTUR HAMBURG//kultur-hamburg.de///DE
CALSCALE:GREGORIAN
BEGIN:VEVENT
X-WR-TIMEZONE:Europe/Berlin
DTSTART:20260610T180000
DTEND:20260610T190000
LOCATION:Zinnschmelze \, Maurienstraße 19 \, 22305 Hamburg
DTSTAMP:20260426T061317
SUMMARY:Feierabendsingen
URL;VALUE=URI:https://www.kultur-hamburg.de/veranstaltungen/feierabendsingen-810427
DESCRIPTION:Du singst doch auch, dann singe mit uns 
OpenAir
UID:fb478e9eb2f3ff6d8c71ef8a91f13196@kulturhamburg
END:VEVENT
END:VCALENDAR