BEGIN:VCALENDAR
VERSION:2.0
PRODID:-//STADTKULTUR HAMBURG//kultur-hamburg.de///DE
CALSCALE:GREGORIAN
BEGIN:VEVENT
X-WR-TIMEZONE:Europe/Berlin
DTSTART:20260508T110000
DTEND:20260508T130000
LOCATION:FUNDUS THEATER \, Sievekingdamm 3 - Platz der Kinderrechte \, 20535 Hamburg
DTSTAMP:20260420T010850
SUMMARY:NACHMACHEN NACHMACHEN
URL;VALUE=URI:https://www.kultur-hamburg.de/veranstaltungen/nachmachen-nachmachen-810560
DESCRIPTION:
UID:ba7e668eb118c47dd834a7b6e4857666@kulturhamburg
END:VEVENT
END:VCALENDAR