BEGIN:VCALENDAR
VERSION:2.0
PRODID:-//STADTKULTUR HAMBURG//kultur-hamburg.de///DE
CALSCALE:GREGORIAN
BEGIN:VEVENT
X-WR-TIMEZONE:Europe/Berlin
DTSTART:20260605T200000
DTEND:20260605T220000
LOCATION:Goldbekhaus \, Moorfuhrtweg 9 \, 22301 Hamburg
DTSTAMP:20260425T210744
SUMMARY:Trio Café Brasil – ein magisches Klanggebräu
URL;VALUE=URI:https://www.kultur-hamburg.de/veranstaltungen/trio-caf-brasil--ein-magisches-klanggebraeu-810632
DESCRIPTION:
UID:c74b02399631232212f412370bc4304e@kulturhamburg
END:VEVENT
END:VCALENDAR