BEGIN:VCALENDAR
VERSION:2.0
PRODID:-//STADTKULTUR HAMBURG//kultur-hamburg.de///DE
CALSCALE:GREGORIAN
BEGIN:VEVENT
X-WR-TIMEZONE:Europe/Berlin
DTSTART:20260607T150000
DTEND:20260607T170000
LOCATION:Goldbekhaus \, Moorfuhrtweg 9 \, 22301 Hamburg
DTSTAMP:20260426T003951
SUMMARY:Der Traumzauberbaum
URL;VALUE=URI:https://www.kultur-hamburg.de/veranstaltungen/der-traumzauberbaum-810800
DESCRIPTION:
UID:da158a64de5d33bf11520e836225ce93@kulturhamburg
END:VEVENT
END:VCALENDAR