BEGIN:VCALENDAR
VERSION:2.0
PRODID:-//STADTKULTUR HAMBURG//kultur-hamburg.de///DE
CALSCALE:GREGORIAN
BEGIN:VEVENT
X-WR-TIMEZONE:Europe/Berlin
DTSTART:20260607T160000
DTEND:20260607T180000
LOCATION:Goldbekhaus \, Moorfuhrtweg 9 \, 22301 Hamburg
DTSTAMP:20260426T004151
SUMMARY:10 Jahre Primera Diversión – Jubiläumskonzert
URL;VALUE=URI:https://www.kultur-hamburg.de/veranstaltungen/10-jahre-primera-diversin--jubilaeumskonzert-810801
DESCRIPTION:
UID:5a2cddfc3706278e259f81c4de98037d@kulturhamburg
END:VEVENT
END:VCALENDAR