BEGIN:VCALENDAR
VERSION:2.0
PRODID:-//STADTKULTUR HAMBURG//kultur-hamburg.de///DE
CALSCALE:GREGORIAN
BEGIN:VEVENT
X-WR-TIMEZONE:Europe/Berlin
DTSTART:20251215T173000
DTEND:20251215T190000
LOCATION:Kulturladen St.Georg e.V. \, Alexanderstr.16 \, 20099 Hamburg
DTSTAMP:20260422T143845
SUMMARY:Französisch A2/B1
URL;VALUE=URI:https://www.kultur-hamburg.de/kurse_workshops/franzoesisch-a2b1-811157
DESCRIPTION:Französisch sprechen und lesen stehen im Fokus dieses Kurses.
Die Sprachkurse im Kulturladen St. Georg e.V. finden in kleinen Gruppen statt und werden von Muttersprachler*innen geleitet. Ein Einstieg ist immer möglich.
UID:7e84130c173b3d2dd35e25bacef5e1e8@kulturhamburg
END:VEVENT
END:VCALENDAR