BEGIN:VCALENDAR
VERSION:2.0
PRODID:-//STADTKULTUR HAMBURG//kultur-hamburg.de///DE
CALSCALE:GREGORIAN
BEGIN:VEVENT
X-WR-TIMEZONE:Europe/Berlin
DTSTART:20260425T140000
DTEND:20260425T160000
LOCATION:Theaterdeck in der Zinnschmelze \, Maurienstr. 19 \, 22305 Hamburg
DTSTAMP:20260422T055238
SUMMARY:Der kleine Prinz
URL;VALUE=URI:https://www.kultur-hamburg.de/veranstaltungen/der-kleine-prinz-811326
DESCRIPTION:“Man sieht nur mit dem Herzen gut.”
UID:2b8cb9ff7bee4dbb758dfe3a14fedc38@kulturhamburg
END:VEVENT
END:VCALENDAR