BEGIN:VCALENDAR
VERSION:2.0
PRODID:-//STADTKULTUR HAMBURG//kultur-hamburg.de///DE
CALSCALE:GREGORIAN
BEGIN:VEVENT
X-WR-TIMEZONE:Europe/Berlin
DTSTART:20260425T163000
DTEND:20260425T183000
LOCATION:Theaterdeck in der Zinnschmelze \, Maurienstr. 19 \, 22305 Hamburg
DTSTAMP:20260422T055044
SUMMARY:Der kleine Prinz
URL;VALUE=URI:https://www.kultur-hamburg.de/veranstaltungen/der-kleine-prinz-811327
DESCRIPTION:“Man sieht nur mit dem Herzen gut.”
UID:96b2abac76ff801e696d5e3664291254@kulturhamburg
END:VEVENT
END:VCALENDAR