BEGIN:VCALENDAR
VERSION:2.0
PRODID:-//STADTKULTUR HAMBURG//kultur-hamburg.de///DE
CALSCALE:GREGORIAN
BEGIN:VEVENT
X-WR-TIMEZONE:Europe/Berlin
DTSTART:20260430T100000
DTEND:20260430T120000
LOCATION:Theaterdeck in der Zinnschmelze \, Maurienstr. 19 \, 22305 Hamburg
DTSTAMP:20260422T072826
SUMMARY:Der kleine Prinz
URL;VALUE=URI:https://www.kultur-hamburg.de/veranstaltungen/der-kleine-prinz-811329
DESCRIPTION:"Man sieht nur mit dem Herzen gut.”
UID:2ca601b4f2f2ee9ca7547b71eddf24ec@kulturhamburg
END:VEVENT
END:VCALENDAR