BEGIN:VCALENDAR
VERSION:2.0
PRODID:-//STADTKULTUR HAMBURG//kultur-hamburg.de///DE
CALSCALE:GREGORIAN
BEGIN:VEVENT
X-WR-TIMEZONE:Europe/Berlin
DTSTART:20260519T100000
DTEND:20260519T110000
LOCATION:Kulturladen St.Georg e.V. \, Alexanderstr.16 \, 20099 Hamburg
DTSTAMP:20260422T211457
SUMMARY:PETTERSSON UND FINDUS
URL;VALUE=URI:https://www.kultur-hamburg.de/veranstaltungen/pettersson-und-findus-811379
DESCRIPTION:
UID:8bd6baff1e5ab8289b94f4644a1558ac@kulturhamburg
END:VEVENT
END:VCALENDAR