BEGIN:VCALENDAR
VERSION:2.0
PRODID:-//STADTKULTUR HAMBURG//kultur-hamburg.de///DE
CALSCALE:GREGORIAN
BEGIN:VEVENT
X-WR-TIMEZONE:Europe/Berlin
DTSTART:20260605T200000
DTEND:20260605T220000
LOCATION:LOLA Kulturzentrum \, Lohbrügger Landstraße 8 \, 21031 Hamburg
DTSTAMP:20260425T210744
SUMMARY:NEZAKET GÜLTEKIN & BAND
URL;VALUE=URI:https://www.kultur-hamburg.de/veranstaltungen/nezaket-gueltekin-&-band-811380
DESCRIPTION:
UID:aeaa48ba3943283b46ab6dffbd2619db@kulturhamburg
END:VEVENT
END:VCALENDAR