BEGIN:VCALENDAR
VERSION:2.0
PRODID:-//STADTKULTUR HAMBURG//kultur-hamburg.de///DE
CALSCALE:GREGORIAN
BEGIN:VEVENT
X-WR-TIMEZONE:Europe/Berlin
DTSTART:20260528T190000
DTEND:20260528T210000
LOCATION:LOLA Kulturzentrum \, Lohbrügger Landstraße 8 \, 21031 Hamburg
DTSTAMP:20260423T124323
SUMMARY:ERZÄHL MAL!
URL;VALUE=URI:https://www.kultur-hamburg.de/veranstaltungen/erzaehl-mal!-811382
DESCRIPTION:
UID:b9d4dd68c454115c712e8c7e3143820b@kulturhamburg
END:VEVENT
END:VCALENDAR