BEGIN:VCALENDAR
VERSION:2.0
PRODID:-//STADTKULTUR HAMBURG//kultur-hamburg.de///DE
CALSCALE:GREGORIAN
BEGIN:VEVENT
X-WR-TIMEZONE:Europe/Berlin
DTSTART:20260523T160000
DTEND:20260523T220000
LOCATION:Kulturladen St.Georg e.V. \, Alexanderstr.16 \, 20099 Hamburg
DTSTAMP:20260422T154826
SUMMARY:Klassischer Persischer Tanz - Workshop
URL;VALUE=URI:https://www.kultur-hamburg.de/kurse_workshops/klassischer-persischer-tanz-workshop-811392
DESCRIPTION:
UID:39d77ead2a8480fea6a3daca5fe3c386@kulturhamburg
END:VEVENT
END:VCALENDAR