BEGIN:VCALENDAR
VERSION:2.0
PRODID:-//STADTKULTUR HAMBURG//kultur-hamburg.de///DE
CALSCALE:GREGORIAN
BEGIN:VEVENT
X-WR-TIMEZONE:Europe/Berlin
DTSTART:20120725T110000
DTEND:20120731T150000
LOCATION:TASK Schauspielschule für Kinder und Jugendliche \, Stresemannstraße 163 (Neue Flora) \, 22769 Hamburg
DTSTAMP:20260424T012320
SUMMARY:Wir drehen einen Film! Ferienworkshops ab 10 J.
URL;VALUE=URI:https://www.kultur-hamburg.de/kurse_workshops/wir-drehen-einen-film!-ferienworkshops-ab-10-j.-81469
DESCRIPTION:Hier entwickeln die Teilnehmer Film-Idee, Drehbuch und Charaktere. Die Kursgebühr beinhaltet eine DVD mit dem Kurzfilm!
UID:00bf817d4ec0c7aa457e5c88555e2e77@kulturhamburg
END:VEVENT
END:VCALENDAR