BEGIN:VCALENDAR
VERSION:2.0
PRODID:-//STADTKULTUR HAMBURG//kultur-hamburg.de///DE
CALSCALE:GREGORIAN
BEGIN:VEVENT
X-WR-TIMEZONE:Europe/Berlin
DTSTART:20120702T110000
DTEND:20120702T140000
LOCATION:ella Kulturhaus Langenhorn \, Käkenflur 30 (über Iserlohner Stieg) \, 22419 Hamburg
DTSTAMP:20260424T060038
SUMMARY:Hereinspaziert...! Ferienworkshop Zirkus & Zauber
URL;VALUE=URI:https://www.kultur-hamburg.de/kurse_workshops/hereinspaziert...!-ferienworkshop-zirkus-&-zauber-81572
DESCRIPTION:
UID:251676635407ef1d0ca14773dc7dc1d9@kulturhamburg
END:VEVENT
END:VCALENDAR