BEGIN:VCALENDAR
VERSION:2.0
PRODID:-//STADTKULTUR HAMBURG//kultur-hamburg.de///DE
CALSCALE:GREGORIAN
BEGIN:VEVENT
X-WR-TIMEZONE:Europe/Berlin
DTSTART:20120702T130000
DTEND:20120702T160000
LOCATION:ella Kulturhaus Langenhorn \, Käkenflur 30 (über Iserlohner Stieg) \, 22419 Hamburg
DTSTAMP:20260424T060054
SUMMARY:Hereinspaziert...! Theater
URL;VALUE=URI:https://www.kultur-hamburg.de/kurse_workshops/hereinspaziert...!-theater-81578
DESCRIPTION:
UID:7826129efcab43fea0e1f0642b278ae7@kulturhamburg
END:VEVENT
END:VCALENDAR