BEGIN:VCALENDAR
VERSION:2.0
PRODID:-//STADTKULTUR HAMBURG//kultur-hamburg.de///DE
CALSCALE:GREGORIAN
BEGIN:VEVENT
X-WR-TIMEZONE:Europe/Berlin
DTSTART:20120702T140000
DTEND:20120702T170000
LOCATION:ella Kulturhaus Langenhorn \, Käkenflur 30 (über Iserlohner Stieg) \, 22419 Hamburg
DTSTAMP:20260424T060105
SUMMARY:Hereinspaziert...! Ferienworkshop Musik und Bewegung
URL;VALUE=URI:https://www.kultur-hamburg.de/kurse_workshops/hereinspaziert...!-ferienworkshop-musik-und-bewegung-81584
DESCRIPTION:
UID:87f85f4f5334c7c17a3b47a6cfd75225@kulturhamburg
END:VEVENT
END:VCALENDAR