BEGIN:VCALENDAR
VERSION:2.0
PRODID:-//STADTKULTUR HAMBURG//kultur-hamburg.de///DE
CALSCALE:GREGORIAN
BEGIN:VEVENT
X-WR-TIMEZONE:Europe/Berlin
DTSTART:20120703T093000
DTEND:20120705T120000
LOCATION:Elternschule Osdorf \, Bornheide 76c \, 22549 Hamburg
DTSTAMP:20260424T060039
SUMMARY:In drei Tagen zum Sommerkleid
URL;VALUE=URI:https://www.kultur-hamburg.de/kurse_workshops/in-drei-tagen-zum-sommerkleid-81979
DESCRIPTION:Haben Sie Lust, ein kleines Kleidungsstück für Ihr Kind oder für sich selbst zu nähen oder etwas "aufzupeppen"?
UID:eec461cb30401d64b58fb27cbbdfb2c2@kulturhamburg
END:VEVENT
END:VCALENDAR