BEGIN:VCALENDAR
VERSION:2.0
PRODID:-//STADTKULTUR HAMBURG//kultur-hamburg.de///DE
CALSCALE:GREGORIAN
BEGIN:VEVENT
X-WR-TIMEZONE:Europe/Berlin
DTSTART:20120710T170000
DTEND:20120724T193000
LOCATION:Ev. Familienbildung Eppendorf \, Loogeplatz 14/16 \, 20249 Hamburg
DTSTAMP:20260424T043329
SUMMARY:Sommernähkurs - Grundtechniken
URL;VALUE=URI:https://www.kultur-hamburg.de/kurse_workshops/sommernaehkurs-grundtechniken-81985
DESCRIPTION:Themen für den 1. Tag: Langnaht (Hose), Rundungen (Ärmel), Säume (Rollsaum, Einfassen)
Themen für den 2. Tag: Reißverschluss, Nahtverdeckter Reißverschluss, Reißverschluss mit Beleg
Themen für den 3. Tag: Knopfleiste, Kragen (Blusen)
UID:d0a8d519e92ff78498f0ec95b4e3d327@kulturhamburg
END:VEVENT
END:VCALENDAR