BEGIN:VCALENDAR
VERSION:2.0
PRODID:-//STADTKULTUR HAMBURG//kultur-hamburg.de///DE
CALSCALE:GREGORIAN
BEGIN:VEVENT
X-WR-TIMEZONE:Europe/Berlin
DTSTART:20120731T181500
DTEND:20120925T194500
LOCATION:Ev. Familienbildung Harburg \, Hölertwiete 5 \, 21073 Hamburg
DTSTAMP:20260423T234352
SUMMARY:Hatha-Yoga nach „Yoga im täglichen Leben“
URL;VALUE=URI:https://www.kultur-hamburg.de/kurse_workshops/hatha-yoga-nach-yoga-im-taeglichen-leben-81991
DESCRIPTION:Eine vielseitige Yogamethode mit Körper- und Atemübungen, sowie
Entspannungs- und Meditationsübungen.
UID:005c01066330fd855d78a7142e5eb8dd@kulturhamburg
END:VEVENT
END:VCALENDAR