BEGIN:VCALENDAR
VERSION:2.0
PRODID:-//STADTKULTUR HAMBURG//kultur-hamburg.de///DE
CALSCALE:GREGORIAN
BEGIN:VEVENT
X-WR-TIMEZONE:Europe/Berlin
DTSTART:20120731T200000
DTEND:20120925T213000
LOCATION:Ev. Familienbildung Harburg \, Hölertwiete 5 \, 21073 Hamburg
DTSTAMP:20260423T234124
SUMMARY:Hatha-Yoga nach „Yoga im täglichen Leben“
URL;VALUE=URI:https://www.kultur-hamburg.de/kurse_workshops/hatha-yoga-nach-yoga-im-taeglichen-leben-81992
DESCRIPTION:Eine vielseitige Yogamethode mit Körper- und Atemübungen, sowie
Entspannungs- und Meditationsübungen.
UID:ffe106ba1412a3fb84ae73bcb6c73acb@kulturhamburg
END:VEVENT
END:VCALENDAR