BEGIN:VCALENDAR
VERSION:2.0
PRODID:-//STADTKULTUR HAMBURG//kultur-hamburg.de///DE
CALSCALE:GREGORIAN
BEGIN:VEVENT
X-WR-TIMEZONE:Europe/Berlin
DTSTART:20120806T093000
DTEND:20120917T120000
LOCATION:Ev. Familienbildung Harburg \, Hölertwiete 5 \, 21073 Hamburg
DTSTAMP:20260423T220039
SUMMARY:Nähen
URL;VALUE=URI:https://www.kultur-hamburg.de/kurse_workshops/naehen-82004
DESCRIPTION:Bitte mitbringen: Schnitt, Stoff und Nähzubehör, Nähmaschinennadel
mit Flachkolben und Spulen
Leitung Ilka Schenk
UID:8a331e2337899699377578f8f8f9062f@kulturhamburg
END:VEVENT
END:VCALENDAR