BEGIN:VCALENDAR
VERSION:2.0
PRODID:-//STADTKULTUR HAMBURG//kultur-hamburg.de///DE
CALSCALE:GREGORIAN
BEGIN:VEVENT
X-WR-TIMEZONE:Europe/Berlin
DTSTART:20120807T093000
DTEND:20120918T120000
LOCATION:Ev. Familienbildung Harburg \, Hölertwiete 5 \, 21073 Hamburg
DTSTAMP:20260423T214801
SUMMARY:Nähen
URL;VALUE=URI:https://www.kultur-hamburg.de/kurse_workshops/naehen-82012
DESCRIPTION:Bitte mitbringen: Schnitt, Stoff und Nähzubehör, Nähmaschinennadel
mit Flachkolben und Spulen
Leitung Ilka Schenk
UID:2715cda54ce6b4911a89d0c94729f6db@kulturhamburg
END:VEVENT
END:VCALENDAR