BEGIN:VCALENDAR
VERSION:2.0
PRODID:-//STADTKULTUR HAMBURG//kultur-hamburg.de///DE
CALSCALE:GREGORIAN
BEGIN:VEVENT
X-WR-TIMEZONE:Europe/Berlin
DTSTART:20120703T140000
DTEND:20120704T180000
LOCATION:
DTSTAMP:20260424T061443
SUMMARY:Theaterworkshop für Jugendliche
URL;VALUE=URI:https://www.kultur-hamburg.de/kurse_workshops/theaterworkshop-fuer-jugendliche-82021
DESCRIPTION:Liebe Eltern, liebe Jugendliche,
In den hamburger Schulferien bieten wir Für Jugendlichen (14-18 J) mit unseren Ferien Theaterworkshops ein tolles Erlebnis. In der Anlage finden Sie Flyer.
Bei "Schrille Post" werden mehrsprachige Jugendliche(14-18 Jahre) gemeinsam ein Theaterstück entwickeln und bei der Produktion eines Hörspiels und eines Songs mitwirken.
UID:e4694cdcd2b6aaa1eea1faa21828b6b3@kulturhamburg
END:VEVENT
END:VCALENDAR