BEGIN:VCALENDAR
VERSION:2.0
PRODID:-//STADTKULTUR HAMBURG//kultur-hamburg.de///DE
CALSCALE:GREGORIAN
BEGIN:VEVENT
X-WR-TIMEZONE:Europe/Berlin
DTSTART:20120704T140000
DTEND:20120705T180000
LOCATION:
DTSTAMP:20260424T055933
SUMMARY:Theaterworkshop für Jugendliche
URL;VALUE=URI:https://www.kultur-hamburg.de/kurse_workshops/theaterworkshop-fuer-jugendliche-82022
DESCRIPTION:Liebe Eltern, liebe Jugendliche,
In den hamburger Schulferien bieten wir Für Jugendlichen (14-18 J) mit unseren Ferien Theaterworkshops ein tolles Erlebnis. In der Anlage finden Sie Flyer.
Bei "Schrille Post" werden mehrsprachige Jugendliche(14-18 Jahre) gemeinsam ein Theaterstück entwickeln und bei der Produktion eines Hörspiels und eines Songs mitwirken.
UID:5c5a5fa75a4d594dc355c9a63916cc27@kulturhamburg
END:VEVENT
END:VCALENDAR