BEGIN:VCALENDAR
VERSION:2.0
PRODID:-//STADTKULTUR HAMBURG//kultur-hamburg.de///DE
CALSCALE:GREGORIAN
BEGIN:VEVENT
X-WR-TIMEZONE:Europe/Berlin
DTSTART:20120806T144500
DTEND:20120924T171500
LOCATION:Ev. Familienbildung Harburg \, Hölertwiete 5 \, 21073 Hamburg
DTSTAMP:20260423T215042
SUMMARY:Nähen
URL;VALUE=URI:https://www.kultur-hamburg.de/kurse_workshops/naehen-82024
DESCRIPTION:Bitte mitbringen: Schnitt, Stoff und Nähzubehör, Nähmaschinennadel
mit Flachkolben und Spulen
Leitung Ingrid Meyer
UID:855d2d64ad6aef5cd5ba04901010bc76@kulturhamburg
END:VEVENT
END:VCALENDAR