BEGIN:VCALENDAR
VERSION:2.0
PRODID:-//STADTKULTUR HAMBURG//kultur-hamburg.de///DE
CALSCALE:GREGORIAN
BEGIN:VEVENT
X-WR-TIMEZONE:Europe/Berlin
DTSTART:20120808T093000
DTEND:20120926T120000
LOCATION:Ev. Familienbildung Harburg \, Hölertwiete 5 \, 21073 Hamburg
DTSTAMP:20260423T220029
SUMMARY:Nähen
URL;VALUE=URI:https://www.kultur-hamburg.de/kurse_workshops/naehen-82033
DESCRIPTION:Bitte mitbringen: Schnitt, Stoff und Nähzubehör, Nähmaschinennadel
mit Flachkolben und Spulen
Leitung Ilka Schenk
UID:793b6c3d08e7a0c121b94e6598d40354@kulturhamburg
END:VEVENT
END:VCALENDAR