BEGIN:VCALENDAR
VERSION:2.0
PRODID:-//STADTKULTUR HAMBURG//kultur-hamburg.de///DE
CALSCALE:GREGORIAN
BEGIN:VEVENT
X-WR-TIMEZONE:Europe/Berlin
DTSTART:20120806T193000
DTEND:20120924T220000
LOCATION:Ev. Familienbildung Harburg \, Hölertwiete 5 \, 21073 Hamburg
DTSTAMP:20260423T215916
SUMMARY:Nähen
URL;VALUE=URI:https://www.kultur-hamburg.de/kurse_workshops/naehen-82043
DESCRIPTION:Bitte mitbringen: Schnitt, Stoff und Nähzubehör, Nähmaschinennadel

mit Flachkolben und Spulen

Leitung Ellen Caffier
UID:d81c63a36b5ca70f5312c95de60f1850@kulturhamburg
END:VEVENT
END:VCALENDAR